BEGIN:VCALENDAR
VERSION:2.0
PRODID:-//eventon.com NONSGML v1.0//EN
CALSCALE:GREGORIAN
METHOD:PUBLISH
BEGIN:VEVENT
UID:69e76367b2bcf
DTSTAMP:20260421T114543Z
DTSTART:20260609T083000Z
DTEND:20260609T103000Z
LOCATION:To be confirmed (TBC)
SUMMARY:Creative Industries Workforce Development Partnership Meeting
DESCRIPTION:Creative Industries Workforce Development Partnership Meeting T
 he Creative Industries Workforce Development Partnership (WDP) forms an imp
 ortant part of the LSIP Roadmap of Actions\,  bringing together employers a
 nd education and training providers to support workforce development across
  Oxfordshire and Berkshire. Expanding from its original Screen Industries f
 ocus\,  the Partnership now reflects[..]\nhttps://www.oxfordshirelsip.co.uk
 /events/creative-industries-workforce-development-partnership-meeting/
URL:https://www.oxfordshirelsip.co.uk/events/creative-industries-workforce-development-partnership-meeting/
END:VEVENT
END:VCALENDAR