BEGIN:VCALENDAR
VERSION:2.0
PRODID:-//eventon.com NONSGML v1.0//EN
CALSCALE:GREGORIAN
METHOD:PUBLISH
BEGIN:VEVENT
UID:69e74fff0358e
DTSTAMP:20260421T102255Z
DTSTART:20260521T083000Z
DTEND:20260521T103000Z
LOCATION:To be confirmed (TBC)
SUMMARY:Construction & The Built Environment Workforce Development Partnership Meeting
DESCRIPTION:Construction &amp; The Built Environment Workforce Development 
 Partnership Meeting The Construction &amp; Built Environment Workforce Dev
 elopment Partnership (WDP) forms a key part of the LSIP Roadmap of Actions
 \,  bringing together employers and education and training providers to str
 engthen workforce development across Oxfordshire and Berkshire. Through th
 is collaborative forum\,  the Partnership aims to address[..]\nhttps://www.
 oxfordshirelsip.co.uk/events/construction-the-built-environment-workforce-d
 evelopment-partnership-meeting/
URL:https://www.oxfordshirelsip.co.uk/events/construction-the-built-environment-workforce-development-partnership-meeting/
END:VEVENT
END:VCALENDAR