BEGIN:VCALENDAR
VERSION:2.0
PRODID:-//eventon.com NONSGML v1.0//EN
CALSCALE:GREGORIAN
METHOD:PUBLISH
BEGIN:VEVENT
UID:69e73defdc286
DTSTAMP:20260421T090551Z
DTSTART:20260507T083000Z
DTEND:20260507T103000Z
LOCATION:Holiday Inn Reading-South M4\,  JCT.11 by IHG Basingstoke Rd\,  Reading RG2 0SL
SUMMARY:Hospitality and Visitor Economy Workforce Development Partnership Meeting
DESCRIPTION:Hospitality and Visitor Economy Workforce Development Partnersh
 ip Meeting The Hospitality &amp; Visitor Economy Workforce Development Par
 tnership (WDP) now sits within the region’s wider Critical Services Clu
 ster\,  which also brings together the Care\,  Haulage &amp; Logistics\,  a
 nd Professional Services sectors. While these industries share some common 
 workforce pressures\,  this meeting will focus specifically on[..]\nhttps:/
 /www.oxfordshirelsip.co.uk/events/hospitality-and-visitor-economy-workforce
 -development-partnership-meeting-2/
URL:https://www.oxfordshirelsip.co.uk/events/hospitality-and-visitor-economy-workforce-development-partnership-meeting-2/
END:VEVENT
END:VCALENDAR