BEGIN:VCALENDAR
VERSION:2.0
PRODID:-//eventon.com NONSGML v1.0//EN
CALSCALE:GREGORIAN
METHOD:PUBLISH
BEGIN:VEVENT
UID:69e73bd0f1c11
DTSTAMP:20260421T085648Z
DTSTART:20260617T113000Z
DTEND:20260617T141500Z
LOCATION:Green Park Conference Centre 100 Longwater Avenue Green Park\,  Reading\,  RG2 6GP
SUMMARY:Health and Life Sciences Working Group
DESCRIPTION:The Chamber is proud to host the Thames Valley’s only region-
 wide\,  curated\,  life sciences working group. The industry-led group ser
 ves as a vital platform for collaboration\,  convening global corporates\, 
  innovative SMEs\,  academic institutions and educational establishments (i
 ncluding those linked to our LSIP)\,  NHS trusts\,  government stakeholder
 s\,  professional bodies and pre-eminent thought leaders.[..]\nhttps://www.
 oxfordshirelsip.co.uk/events/health-and-life-sciences-working-group/
URL:https://www.oxfordshirelsip.co.uk/events/health-and-life-sciences-working-group/
END:VEVENT
END:VCALENDAR