BEGIN:VCALENDAR
VERSION:2.0
PRODID:-//eventon.com NONSGML v1.0//EN
CALSCALE:GREGORIAN
METHOD:PUBLISH
BEGIN:VEVENT
UID:69e74bd017d8b
DTSTAMP:20260421T100504Z
DTSTART:20260605T103000Z
DTEND:20260605T130000Z
LOCATION:Green Park Conference Centre 100 Longwater Avenue Green Park\,  Reading\,  RG2 6GP
SUMMARY:Defence and Security Working Group
DESCRIPTION:Defence and Security Working Group The Defence and Security Wor
 king Group is an industry-led forum for collaboration\,  insight and influe
 nce\,  bringing together leaders from across the sector. Attendees include 
 global corporates\,  innovative SMEs\,  academic and education institutions
  (including the LSIP’s workforce development partnership)\,  government 
 stakeholders\,  professional bodies and respected thought leaders.[..]\nhtt
 ps://www.oxfordshirelsip.co.uk/events/defence-and-security-working-group/
URL:https://www.oxfordshirelsip.co.uk/events/defence-and-security-working-group/
END:VEVENT
END:VCALENDAR