BEGIN:VCALENDAR
VERSION:2.0
PRODID:-//eventon.com NONSGML v1.0//EN
CALSCALE:GREGORIAN
METHOD:PUBLISH
BEGIN:VEVENT
UID:69e787315bff4
DTSTAMP:20260421T141825Z
DTSTART:20260602T090000Z
DTEND:20260602T100000Z
LOCATION:Virtual
SUMMARY:Virtual Member Networking Event
DESCRIPTION:One of the benefits of being a member of the Chamber is that yo
 u are part of a network that covers the whole of the Thames Valley\,  encom
 passing Berkshire\,  Buckinghamshire\,  Swindon and Oxfordshire. Travelling
  to individual networking events is time consuming\,  so you are invited to
  join a virtual networking[..]\nhttps://www.oxfordshirelsip.co.uk/events/vi
 rtual-member-networking-event/
URL:https://www.oxfordshirelsip.co.uk/events/virtual-member-networking-event/
END:VEVENT
END:VCALENDAR