BEGIN:VCALENDAR
VERSION:2.0
PRODID:-//eventon.com NONSGML v1.0//EN
CALSCALE:GREGORIAN
METHOD:PUBLISH
BEGIN:VEVENT
UID:69e7881c5449b
DTSTAMP:20260421T142220Z
DTSTART:20260512T083000Z
DTEND:20260512T130000Z
LOCATION:Becton\,  Dickinson U.K. Limited 1030 Eskdale Road Winnersh Triangle\,  Wokingham Berkshire\,  RG41 5TS
SUMMARY:Thames Valley Growth Conference
DESCRIPTION:Thames Valley Growth Conference Delivering the ambition for a g
 reener\,  healthier and more prosperous Thames Valley The Thames Valley has
  an impressive standing as one of the most successful business locations in
  Europe\,  and yet our business community is not immune to the challenges a
 nd uncertain environment in which we[..]\nhttps://www.oxfordshirelsip.co.uk
 /events/thames-valley-growth-conference/
URL:https://www.oxfordshirelsip.co.uk/events/thames-valley-growth-conference/
END:VEVENT
END:VCALENDAR